BEGIN:VCALENDAR
VERSION:2.0
PRODID:-//Midhurst CofE Primary School - ECPv6.15.1.1//NONSGML v1.0//EN
CALSCALE:GREGORIAN
METHOD:PUBLISH
X-WR-CALNAME:Midhurst CofE Primary School
X-ORIGINAL-URL:https://www.midhurst-primary-school.co.uk
X-WR-CALDESC:Events for Midhurst CofE Primary School
REFRESH-INTERVAL;VALUE=DURATION:PT1H
X-Robots-Tag:noindex
X-PUBLISHED-TTL:PT1H
BEGIN:VTIMEZONE
TZID:Europe/London
BEGIN:DAYLIGHT
TZOFFSETFROM:+0000
TZOFFSETTO:+0100
TZNAME:BST
DTSTART:20260329T010000
END:DAYLIGHT
BEGIN:STANDARD
TZOFFSETFROM:+0100
TZOFFSETTO:+0000
TZNAME:GMT
DTSTART:20261025T010000
END:STANDARD
END:VTIMEZONE
BEGIN:VEVENT
DTSTART;VALUE=DATE:20260504
DTEND;VALUE=DATE:20260505
DTSTAMP:20260424T171521
CREATED:20251008T134650Z
LAST-MODIFIED:20251008T134652Z
UID:6662-1777852800-1777939199@www.midhurst-primary-school.co.uk
SUMMARY:Bank Holiday - School Closed
DESCRIPTION:
URL:https://www.midhurst-primary-school.co.uk/event/bank-holiday-school-closed-6/
END:VEVENT
BEGIN:VEVENT
DTSTART;TZID=Europe/London:20260505T090000
DTEND;TZID=Europe/London:20260505T233000
DTSTAMP:20260424T171521
CREATED:20251008T134739Z
LAST-MODIFIED:20251008T134741Z
UID:6664-1777971600-1778023800@www.midhurst-primary-school.co.uk
SUMMARY:Class Photos
DESCRIPTION:
URL:https://www.midhurst-primary-school.co.uk/event/class-photos-4/
END:VEVENT
BEGIN:VEVENT
DTSTART;VALUE=DATE:20260511
DTEND;VALUE=DATE:20260515
DTSTAMP:20260424T171521
CREATED:20251008T134812Z
LAST-MODIFIED:20251008T134858Z
UID:6666-1778457600-1778803199@www.midhurst-primary-school.co.uk
SUMMARY:Oak Class - SATs
DESCRIPTION:
URL:https://www.midhurst-primary-school.co.uk/event/oak-class-sats/
END:VEVENT
BEGIN:VEVENT
DTSTART;VALUE=DATE:20260525
DTEND;VALUE=DATE:20260530
DTSTAMP:20260424T171521
CREATED:20251008T134941Z
LAST-MODIFIED:20251008T134943Z
UID:6668-1779667200-1780099199@www.midhurst-primary-school.co.uk
SUMMARY:Half Term
DESCRIPTION:
URL:https://www.midhurst-primary-school.co.uk/event/half-term-27/
END:VEVENT
END:VCALENDAR