BEGIN:VCALENDAR
VERSION:2.0
PRODID:-//Midhurst CofE Primary School - ECPv6.15.1.1//NONSGML v1.0//EN
CALSCALE:GREGORIAN
METHOD:PUBLISH
X-WR-CALNAME:Midhurst CofE Primary School
X-ORIGINAL-URL:https://www.midhurst-primary-school.co.uk
X-WR-CALDESC:Events for Midhurst CofE Primary School
REFRESH-INTERVAL;VALUE=DURATION:PT1H
X-Robots-Tag:noindex
X-PUBLISHED-TTL:PT1H
BEGIN:VTIMEZONE
TZID:Europe/London
BEGIN:DAYLIGHT
TZOFFSETFROM:+0000
TZOFFSETTO:+0100
TZNAME:BST
DTSTART:20260329T010000
END:DAYLIGHT
BEGIN:STANDARD
TZOFFSETFROM:+0100
TZOFFSETTO:+0000
TZNAME:GMT
DTSTART:20261025T010000
END:STANDARD
END:VTIMEZONE
BEGIN:VEVENT
DTSTART;TZID=Europe/London:20260310T170000
DTEND;TZID=Europe/London:20260310T200000
DTSTAMP:20260424T170231
CREATED:20251008T133343Z
LAST-MODIFIED:20251008T133349Z
UID:6650-1773162000-1773172800@www.midhurst-primary-school.co.uk
SUMMARY:Parents Evening
DESCRIPTION:
URL:https://www.midhurst-primary-school.co.uk/event/parents-evening-28/
END:VEVENT
BEGIN:VEVENT
DTSTART;TZID=Europe/London:20260312T160000
DTEND;TZID=Europe/London:20260312T190000
DTSTAMP:20260424T170231
CREATED:20251008T133235Z
LAST-MODIFIED:20251008T133300Z
UID:6648-1773331200-1773342000@www.midhurst-primary-school.co.uk
SUMMARY:Parents Evening
DESCRIPTION:
URL:https://www.midhurst-primary-school.co.uk/event/parents-evening-27/
END:VEVENT
BEGIN:VEVENT
DTSTART;VALUE=DATE:20260316
DTEND;VALUE=DATE:20260321
DTSTAMP:20260424T170231
CREATED:20251008T133425Z
LAST-MODIFIED:20251008T133427Z
UID:6652-1773619200-1774051199@www.midhurst-primary-school.co.uk
SUMMARY:Oak Class Residential to PGL Little Canada
DESCRIPTION:
URL:https://www.midhurst-primary-school.co.uk/event/oak-class-residential-to-pgl-little-canada/
END:VEVENT
BEGIN:VEVENT
DTSTART;VALUE=DATE:20260330
DTEND;VALUE=DATE:20260411
DTSTAMP:20260424T170231
CREATED:20251008T133458Z
LAST-MODIFIED:20251008T133503Z
UID:6654-1774828800-1775865599@www.midhurst-primary-school.co.uk
SUMMARY:Easter Holidays
DESCRIPTION:
URL:https://www.midhurst-primary-school.co.uk/event/easter-holidays-8/
END:VEVENT
END:VCALENDAR