BEGIN:VCALENDAR
VERSION:2.0
PRODID:-//Midhurst CofE Primary School - ECPv6.15.1.1//NONSGML v1.0//EN
CALSCALE:GREGORIAN
METHOD:PUBLISH
X-WR-CALNAME:Midhurst CofE Primary School
X-ORIGINAL-URL:https://www.midhurst-primary-school.co.uk
X-WR-CALDESC:Events for Midhurst CofE Primary School
REFRESH-INTERVAL;VALUE=DURATION:PT1H
X-Robots-Tag:noindex
X-PUBLISHED-TTL:PT1H
BEGIN:VTIMEZONE
TZID:Europe/London
BEGIN:DAYLIGHT
TZOFFSETFROM:+0000
TZOFFSETTO:+0100
TZNAME:BST
DTSTART:20250330T010000
END:DAYLIGHT
BEGIN:STANDARD
TZOFFSETFROM:+0100
TZOFFSETTO:+0000
TZNAME:GMT
DTSTART:20251026T010000
END:STANDARD
BEGIN:DAYLIGHT
TZOFFSETFROM:+0000
TZOFFSETTO:+0100
TZNAME:BST
DTSTART:20260329T010000
END:DAYLIGHT
BEGIN:STANDARD
TZOFFSETFROM:+0100
TZOFFSETTO:+0000
TZNAME:GMT
DTSTART:20261025T010000
END:STANDARD
END:VTIMEZONE
BEGIN:VEVENT
DTSTART;TZID=Europe/London:20251210T183000
DTEND;TZID=Europe/London:20251210T200000
DTSTAMP:20260424T223849
CREATED:20251008T131445Z
LAST-MODIFIED:20251008T131447Z
UID:6626-1765391400-1765396800@www.midhurst-primary-school.co.uk
SUMMARY:KS1 Performance
DESCRIPTION:
URL:https://www.midhurst-primary-school.co.uk/event/ks1-performance-3/
END:VEVENT
BEGIN:VEVENT
DTSTART;TZID=Europe/London:20251211T090000
DTEND;TZID=Europe/London:20251211T233000
DTSTAMP:20260424T223849
CREATED:20251008T130749Z
LAST-MODIFIED:20251015T110657Z
UID:6616-1765443600-1765495800@www.midhurst-primary-school.co.uk
SUMMARY:Flu Vaccinations - whole school
DESCRIPTION:
URL:https://www.midhurst-primary-school.co.uk/event/flu-vaccinations-whole-school/
END:VEVENT
BEGIN:VEVENT
DTSTART;TZID=Europe/London:20251211T183000
DTEND;TZID=Europe/London:20251211T200000
DTSTAMP:20260424T223849
CREATED:20251008T131518Z
LAST-MODIFIED:20251008T131521Z
UID:6628-1765477800-1765483200@www.midhurst-primary-school.co.uk
SUMMARY:KS1 Performance
DESCRIPTION:
URL:https://www.midhurst-primary-school.co.uk/event/ks1-performance-4/
END:VEVENT
BEGIN:VEVENT
DTSTART;TZID=Europe/London:20251217T140000
DTEND;TZID=Europe/London:20251217T150000
DTSTAMP:20260424T223849
CREATED:20251008T131556Z
LAST-MODIFIED:20251008T131649Z
UID:6630-1765980000-1765983600@www.midhurst-primary-school.co.uk
SUMMARY:Reception Nativity
DESCRIPTION:
URL:https://www.midhurst-primary-school.co.uk/event/reception-nativity-5/
END:VEVENT
BEGIN:VEVENT
DTSTART;TZID=Europe/London:20251218T183000
DTEND;TZID=Europe/London:20251218T193000
DTSTAMP:20260424T223849
CREATED:20251008T131759Z
LAST-MODIFIED:20251008T131801Z
UID:6632-1766082600-1766086200@www.midhurst-primary-school.co.uk
SUMMARY:Whole School Carol Service in Church
DESCRIPTION:
URL:https://www.midhurst-primary-school.co.uk/event/whole-school-carol-service-in-church/
END:VEVENT
BEGIN:VEVENT
DTSTART;VALUE=DATE:20251219
DTEND;VALUE=DATE:20251220
DTSTAMP:20260424T223849
CREATED:20251008T131843Z
LAST-MODIFIED:20251008T131845Z
UID:6634-1766102400-1766188799@www.midhurst-primary-school.co.uk
SUMMARY:Last day of term - FUN DAY
DESCRIPTION:
URL:https://www.midhurst-primary-school.co.uk/event/last-day-of-term-fun-day/
END:VEVENT
BEGIN:VEVENT
DTSTART;TZID=Europe/London:20251219T150000
DTEND;TZID=Europe/London:20251219T153000
DTSTAMP:20260424T223849
CREATED:20251008T131916Z
LAST-MODIFIED:20251008T131919Z
UID:6636-1766156400-1766158200@www.midhurst-primary-school.co.uk
SUMMARY:PTA Raffle with Mulled Wine and Mince Pies
DESCRIPTION:
URL:https://www.midhurst-primary-school.co.uk/event/pta-raffle-with-mulled-wine-and-mince-pies/
END:VEVENT
BEGIN:VEVENT
DTSTART;VALUE=DATE:20251222
DTEND;VALUE=DATE:20260103
DTSTAMP:20260424T223849
CREATED:20251008T132043Z
LAST-MODIFIED:20251008T132045Z
UID:6638-1766361600-1767398399@www.midhurst-primary-school.co.uk
SUMMARY:Christmas Holidays
DESCRIPTION:
URL:https://www.midhurst-primary-school.co.uk/event/christmas-holidays-2/
END:VEVENT
END:VCALENDAR