BEGIN:VCALENDAR
VERSION:2.0
PRODID:-//Midhurst CofE Primary School - ECPv6.15.1.1//NONSGML v1.0//EN
CALSCALE:GREGORIAN
METHOD:PUBLISH
X-ORIGINAL-URL:https://www.midhurst-primary-school.co.uk
X-WR-CALDESC:Events for Midhurst CofE Primary School
REFRESH-INTERVAL;VALUE=DURATION:PT1H
X-Robots-Tag:noindex
X-PUBLISHED-TTL:PT1H
BEGIN:VTIMEZONE
TZID:Europe/London
BEGIN:DAYLIGHT
TZOFFSETFROM:+0000
TZOFFSETTO:+0100
TZNAME:BST
DTSTART:20250330T010000
END:DAYLIGHT
BEGIN:STANDARD
TZOFFSETFROM:+0100
TZOFFSETTO:+0000
TZNAME:GMT
DTSTART:20251026T010000
END:STANDARD
END:VTIMEZONE
BEGIN:VEVENT
DTSTART;VALUE=DATE:20251103
DTEND;VALUE=DATE:20251104
DTSTAMP:20260425T003855
CREATED:20251008T130528Z
LAST-MODIFIED:20251008T130531Z
UID:6610-1762128000-1762214399@www.midhurst-primary-school.co.uk
SUMMARY:Staff INSET day (School Closed)
DESCRIPTION:
URL:https://www.midhurst-primary-school.co.uk/event/staff-inset-day-school-closed-2/
END:VEVENT
BEGIN:VEVENT
DTSTART;VALUE=DATE:20251104
DTEND;VALUE=DATE:20251105
DTSTAMP:20260425T003855
CREATED:20251008T130621Z
LAST-MODIFIED:20251008T130623Z
UID:6612-1762214400-1762300799@www.midhurst-primary-school.co.uk
SUMMARY:Back to School
DESCRIPTION:
URL:https://www.midhurst-primary-school.co.uk/event/back-to-school-19/
END:VEVENT
BEGIN:VEVENT
DTSTART;TZID=Europe/London:20251105T183000
DTEND;TZID=Europe/London:20251105T193000
DTSTAMP:20260425T003855
CREATED:20251008T130708Z
LAST-MODIFIED:20251008T130708Z
UID:6614-1762367400-1762371000@www.midhurst-primary-school.co.uk
SUMMARY:Rotary Music Evening
DESCRIPTION:
URL:https://www.midhurst-primary-school.co.uk/event/rotary-music-evening-2/
END:VEVENT
BEGIN:VEVENT
DTSTART;TZID=Europe/London:20251111T104500
DTEND;TZID=Europe/London:20251111T120000
DTSTAMP:20260425T003855
CREATED:20251008T130923Z
LAST-MODIFIED:20251008T131004Z
UID:6618-1762857900-1762862400@www.midhurst-primary-school.co.uk
SUMMARY:Remembrance Service in Church for KS2
DESCRIPTION:
URL:https://www.midhurst-primary-school.co.uk/event/remembrance-service-in-church-for-ks2/
END:VEVENT
BEGIN:VEVENT
DTSTART;VALUE=DATE:20251114
DTEND;VALUE=DATE:20251115
DTSTAMP:20260425T003855
CREATED:20251008T131030Z
LAST-MODIFIED:20251008T131035Z
UID:6620-1763078400-1763164799@www.midhurst-primary-school.co.uk
SUMMARY:Children in need
DESCRIPTION:
URL:https://www.midhurst-primary-school.co.uk/event/children-in-need-2/
END:VEVENT
BEGIN:VEVENT
DTSTART;TZID=Europe/London:20251118T170000
DTEND;TZID=Europe/London:20251118T200000
DTSTAMP:20260425T003855
CREATED:20251008T131206Z
LAST-MODIFIED:20251008T131235Z
UID:6622-1763485200-1763496000@www.midhurst-primary-school.co.uk
SUMMARY:Parents Evening
DESCRIPTION:
URL:https://www.midhurst-primary-school.co.uk/event/parents-evening-25/
END:VEVENT
BEGIN:VEVENT
DTSTART;TZID=Europe/London:20251120T160000
DTEND;TZID=Europe/London:20251120T190000
DTSTAMP:20260425T003855
CREATED:20251008T131306Z
LAST-MODIFIED:20251008T131342Z
UID:6624-1763654400-1763665200@www.midhurst-primary-school.co.uk
SUMMARY:Parents Evening
DESCRIPTION:
URL:https://www.midhurst-primary-school.co.uk/event/parents-evening-26/
END:VEVENT
END:VCALENDAR