BEGIN:VCALENDAR
VERSION:2.0
PRODID:-//Midhurst CofE Primary School - ECPv6.15.1.1//NONSGML v1.0//EN
CALSCALE:GREGORIAN
METHOD:PUBLISH
X-WR-CALNAME:Midhurst CofE Primary School
X-ORIGINAL-URL:https://www.midhurst-primary-school.co.uk
X-WR-CALDESC:Events for Midhurst CofE Primary School
REFRESH-INTERVAL;VALUE=DURATION:PT1H
X-Robots-Tag:noindex
X-PUBLISHED-TTL:PT1H
BEGIN:VTIMEZONE
TZID:Europe/London
BEGIN:DAYLIGHT
TZOFFSETFROM:+0000
TZOFFSETTO:+0100
TZNAME:BST
DTSTART:20250330T010000
END:DAYLIGHT
BEGIN:STANDARD
TZOFFSETFROM:+0100
TZOFFSETTO:+0000
TZNAME:GMT
DTSTART:20251026T010000
END:STANDARD
END:VTIMEZONE
BEGIN:VEVENT
DTSTART;VALUE=DATE:20250929
DTEND;VALUE=DATE:20251004
DTSTAMP:20260425T023453
CREATED:20251008T130041Z
LAST-MODIFIED:20251008T130041Z
UID:6596-1759104000-1759535999@www.midhurst-primary-school.co.uk
SUMMARY:Oak Class - Bikeability
DESCRIPTION:
URL:https://www.midhurst-primary-school.co.uk/event/oak-class-bikeability/
END:VEVENT
BEGIN:VEVENT
DTSTART;VALUE=DATE:20251001
DTEND;VALUE=DATE:20251002
DTSTAMP:20260425T023453
CREATED:20251008T130158Z
LAST-MODIFIED:20251008T130204Z
UID:6598-1759276800-1759363199@www.midhurst-primary-school.co.uk
SUMMARY:Oak Class - MRC Experience Day
DESCRIPTION:
URL:https://www.midhurst-primary-school.co.uk/event/oak-class-mrc-experience-day/
END:VEVENT
BEGIN:VEVENT
DTSTART;VALUE=DATE:20251009
DTEND;VALUE=DATE:20251010
DTSTAMP:20260425T023453
CREATED:20251008T130231Z
LAST-MODIFIED:20251008T130234Z
UID:6600-1759968000-1760054399@www.midhurst-primary-school.co.uk
SUMMARY:Hello Yellow day
DESCRIPTION:
URL:https://www.midhurst-primary-school.co.uk/event/hello-yellow-day/
END:VEVENT
BEGIN:VEVENT
DTSTART;TZID=Europe/London:20251010T090000
DTEND;TZID=Europe/London:20251010T113000
DTSTAMP:20260425T023453
CREATED:20251008T130320Z
LAST-MODIFIED:20251008T130323Z
UID:6602-1760086800-1760095800@www.midhurst-primary-school.co.uk
SUMMARY:School Photos (individual)
DESCRIPTION:
URL:https://www.midhurst-primary-school.co.uk/event/school-photos-individual-2/
END:VEVENT
BEGIN:VEVENT
DTSTART;TZID=Europe/London:20251013T090000
DTEND;TZID=Europe/London:20251013T230000
DTSTAMP:20260425T023453
CREATED:20251008T130352Z
LAST-MODIFIED:20251008T130355Z
UID:6604-1760346000-1760396400@www.midhurst-primary-school.co.uk
SUMMARY:Open Day
DESCRIPTION:
URL:https://www.midhurst-primary-school.co.uk/event/open-day/
END:VEVENT
BEGIN:VEVENT
DTSTART;TZID=Europe/London:20251013T160000
DTEND;TZID=Europe/London:20251013T180000
DTSTAMP:20260425T023453
CREATED:20251008T130425Z
LAST-MODIFIED:20251008T130427Z
UID:6606-1760371200-1760378400@www.midhurst-primary-school.co.uk
SUMMARY:Open Day
DESCRIPTION:
URL:https://www.midhurst-primary-school.co.uk/event/open-day-2/
END:VEVENT
BEGIN:VEVENT
DTSTART;TZID=Europe/London:20251027T080000
DTEND;TZID=Europe/London:20251031T170000
DTSTAMP:20260425T023453
CREATED:20251008T130453Z
LAST-MODIFIED:20251008T130455Z
UID:6608-1761552000-1761930000@www.midhurst-primary-school.co.uk
SUMMARY:Half Term
DESCRIPTION:
URL:https://www.midhurst-primary-school.co.uk/event/half-term-25/
END:VEVENT
END:VCALENDAR