BEGIN:VCALENDAR
VERSION:2.0
PRODID:-//Midhurst CofE Primary School - ECPv6.15.1.1//NONSGML v1.0//EN
CALSCALE:GREGORIAN
METHOD:PUBLISH
X-WR-CALNAME:Midhurst CofE Primary School
X-ORIGINAL-URL:https://www.midhurst-primary-school.co.uk
X-WR-CALDESC:Events for Midhurst CofE Primary School
REFRESH-INTERVAL;VALUE=DURATION:PT1H
X-Robots-Tag:noindex
X-PUBLISHED-TTL:PT1H
BEGIN:VTIMEZONE
TZID:Europe/London
BEGIN:DAYLIGHT
TZOFFSETFROM:+0000
TZOFFSETTO:+0100
TZNAME:BST
DTSTART:20250330T010000
END:DAYLIGHT
BEGIN:STANDARD
TZOFFSETFROM:+0100
TZOFFSETTO:+0000
TZNAME:GMT
DTSTART:20251026T010000
END:STANDARD
END:VTIMEZONE
BEGIN:VEVENT
DTSTART;TZID=Europe/London:20250331T080000
DTEND;TZID=Europe/London:20250404T170000
DTSTAMP:20260425T133901
CREATED:20241220T100840Z
LAST-MODIFIED:20241220T100840Z
UID:6290-1743408000-1743786000@www.midhurst-primary-school.co.uk
SUMMARY:Year 6 Residential to Little Canada
DESCRIPTION:
URL:https://www.midhurst-primary-school.co.uk/event/year-6-residential-to-little-canada/
END:VEVENT
BEGIN:VEVENT
DTSTART;VALUE=DATE:20250404
DTEND;VALUE=DATE:20250405
DTSTAMP:20260425T133901
CREATED:20241218T135543Z
LAST-MODIFIED:20241218T135543Z
UID:6249-1743724800-1743811199@www.midhurst-primary-school.co.uk
SUMMARY:Last day of Spring Term
DESCRIPTION:
URL:https://www.midhurst-primary-school.co.uk/event/last-day-of-spring-term-6/
END:VEVENT
BEGIN:VEVENT
DTSTART;VALUE=DATE:20250405
DTEND;VALUE=DATE:20250422
DTSTAMP:20260425T133901
CREATED:20241218T135741Z
LAST-MODIFIED:20241218T140509Z
UID:6251-1743811200-1745279999@www.midhurst-primary-school.co.uk
SUMMARY:Easter Holidays
DESCRIPTION:
URL:https://www.midhurst-primary-school.co.uk/event/easter-holidays-7/
END:VEVENT
BEGIN:VEVENT
DTSTART;VALUE=DATE:20250422
DTEND;VALUE=DATE:20250423
DTSTAMP:20260425T133901
CREATED:20241218T135826Z
LAST-MODIFIED:20241218T135826Z
UID:6253-1745280000-1745366399@www.midhurst-primary-school.co.uk
SUMMARY:Staff INSET (School closed)
DESCRIPTION:
URL:https://www.midhurst-primary-school.co.uk/event/staff-inset-school-closed-9/
END:VEVENT
BEGIN:VEVENT
DTSTART;VALUE=DATE:20250423
DTEND;VALUE=DATE:20250424
DTSTAMP:20260425T133901
CREATED:20241218T135901Z
LAST-MODIFIED:20241218T140346Z
UID:6255-1745366400-1745452799@www.midhurst-primary-school.co.uk
SUMMARY:Summer term begins
DESCRIPTION:
URL:https://www.midhurst-primary-school.co.uk/event/summer-term-begind/
END:VEVENT
BEGIN:VEVENT
DTSTART;TZID=Europe/London:20250428T080000
DTEND;TZID=Europe/London:20250429T170000
DTSTAMP:20260425T133901
CREATED:20241220T100944Z
LAST-MODIFIED:20241220T100944Z
UID:6292-1745827200-1745946000@www.midhurst-primary-school.co.uk
SUMMARY:Year 4 Residential to Marchant Hill
DESCRIPTION:
URL:https://www.midhurst-primary-school.co.uk/event/year-4-residential-to-marchant-hill/
END:VEVENT
END:VCALENDAR