BEGIN:VCALENDAR
VERSION:2.0
PRODID:-//Midhurst CofE Primary School - ECPv6.15.1.1//NONSGML v1.0//EN
CALSCALE:GREGORIAN
METHOD:PUBLISH
X-ORIGINAL-URL:https://www.midhurst-primary-school.co.uk
X-WR-CALDESC:Events for Midhurst CofE Primary School
REFRESH-INTERVAL;VALUE=DURATION:PT1H
X-Robots-Tag:noindex
X-PUBLISHED-TTL:PT1H
BEGIN:VTIMEZONE
TZID:Europe/London
BEGIN:DAYLIGHT
TZOFFSETFROM:+0000
TZOFFSETTO:+0100
TZNAME:BST
DTSTART:20250330T010000
END:DAYLIGHT
BEGIN:STANDARD
TZOFFSETFROM:+0100
TZOFFSETTO:+0000
TZNAME:GMT
DTSTART:20251026T010000
END:STANDARD
END:VTIMEZONE
BEGIN:VEVENT
DTSTART;VALUE=DATE:20250306
DTEND;VALUE=DATE:20250307
DTSTAMP:20260425T153331
CREATED:20241220T094624Z
LAST-MODIFIED:20241220T094624Z
UID:6268-1741219200-1741305599@www.midhurst-primary-school.co.uk
SUMMARY:World Book Day
DESCRIPTION:
URL:https://www.midhurst-primary-school.co.uk/event/world-book-day-7/
END:VEVENT
BEGIN:VEVENT
DTSTART;TZID=Europe/London:20250318T170000
DTEND;TZID=Europe/London:20250318T200000
DTSTAMP:20260425T153331
CREATED:20241220T094721Z
LAST-MODIFIED:20241220T094721Z
UID:6270-1742317200-1742328000@www.midhurst-primary-school.co.uk
SUMMARY:Parents Evening
DESCRIPTION:
URL:https://www.midhurst-primary-school.co.uk/event/parents-evening-23/
END:VEVENT
BEGIN:VEVENT
DTSTART;TZID=Europe/London:20250320T160000
DTEND;TZID=Europe/London:20250320T190000
DTSTAMP:20260425T153331
CREATED:20241220T094804Z
LAST-MODIFIED:20241220T094804Z
UID:6272-1742486400-1742497200@www.midhurst-primary-school.co.uk
SUMMARY:Parents Evening
DESCRIPTION:
URL:https://www.midhurst-primary-school.co.uk/event/parents-evening-24/
END:VEVENT
BEGIN:VEVENT
DTSTART;TZID=Europe/London:20250331T080000
DTEND;TZID=Europe/London:20250404T170000
DTSTAMP:20260425T153331
CREATED:20241220T100840Z
LAST-MODIFIED:20241220T100840Z
UID:6290-1743408000-1743786000@www.midhurst-primary-school.co.uk
SUMMARY:Year 6 Residential to Little Canada
DESCRIPTION:
URL:https://www.midhurst-primary-school.co.uk/event/year-6-residential-to-little-canada/
END:VEVENT
END:VCALENDAR