BEGIN:VCALENDAR
VERSION:2.0
PRODID:-//Midhurst CofE Primary School - ECPv6.15.1.1//NONSGML v1.0//EN
CALSCALE:GREGORIAN
METHOD:PUBLISH
X-ORIGINAL-URL:https://www.midhurst-primary-school.co.uk
X-WR-CALDESC:Events for Midhurst CofE Primary School
REFRESH-INTERVAL;VALUE=DURATION:PT1H
X-Robots-Tag:noindex
X-PUBLISHED-TTL:PT1H
BEGIN:VTIMEZONE
TZID:Europe/London
BEGIN:DAYLIGHT
TZOFFSETFROM:+0000
TZOFFSETTO:+0100
TZNAME:BST
DTSTART:20240331T010000
END:DAYLIGHT
BEGIN:STANDARD
TZOFFSETFROM:+0100
TZOFFSETTO:+0000
TZNAME:GMT
DTSTART:20241027T010000
END:STANDARD
END:VTIMEZONE
BEGIN:VEVENT
DTSTART;VALUE=DATE:20240701
DTEND;VALUE=DATE:20240702
DTSTAMP:20260426T052517
CREATED:20231212T145357Z
LAST-MODIFIED:20231212T145402Z
UID:5766-1719792000-1719878399@www.midhurst-primary-school.co.uk
SUMMARY:Reports out
DESCRIPTION:
URL:https://www.midhurst-primary-school.co.uk/event/reports-out-2/
END:VEVENT
BEGIN:VEVENT
DTSTART;VALUE=DATE:20240702
DTEND;VALUE=DATE:20240703
DTSTAMP:20260426T052517
CREATED:20231212T145514Z
LAST-MODIFIED:20231212T145518Z
UID:5768-1719878400-1719964799@www.midhurst-primary-school.co.uk
SUMMARY:Open evening
DESCRIPTION:
URL:https://www.midhurst-primary-school.co.uk/event/open-evening-8/
END:VEVENT
BEGIN:VEVENT
DTSTART;VALUE=DATE:20240703
DTEND;VALUE=DATE:20240704
DTSTAMP:20260426T052517
CREATED:20220613T210642Z
LAST-MODIFIED:20220613T210642Z
UID:5013-1719964800-1720051199@www.midhurst-primary-school.co.uk
SUMMARY:Y6 transition day to MRC
DESCRIPTION:
URL:https://www.midhurst-primary-school.co.uk/event/y6-transition-day-to-mrc-4/
END:VEVENT
BEGIN:VEVENT
DTSTART;TZID=Europe/London:20240705T130000
DTEND;TZID=Europe/London:20240705T153000
DTSTAMP:20260426T052517
CREATED:20231212T145657Z
LAST-MODIFIED:20231212T145701Z
UID:5770-1720184400-1720193400@www.midhurst-primary-school.co.uk
SUMMARY:Sports day
DESCRIPTION:
URL:https://www.midhurst-primary-school.co.uk/event/sports-day-3/
END:VEVENT
BEGIN:VEVENT
DTSTART;TZID=Europe/London:20240717T140000
DTEND;TZID=Europe/London:20240717T150000
DTSTAMP:20260426T052517
CREATED:20240709T134035Z
LAST-MODIFIED:20240709T134035Z
UID:6000-1721224800-1721228400@www.midhurst-primary-school.co.uk
SUMMARY:Leavers service in church
DESCRIPTION:
URL:https://www.midhurst-primary-school.co.uk/event/leavers-service-in-church-3/
END:VEVENT
BEGIN:VEVENT
DTSTART;TZID=Europe/London:20240717T140000
DTEND;TZID=Europe/London:20240717T150000
DTSTAMP:20260426T052517
CREATED:20240717T130053Z
LAST-MODIFIED:20240709T133634Z
UID:5774-1721224800-1721228400@www.midhurst-primary-school.co.uk
SUMMARY:Leavers Service in church
DESCRIPTION:
URL:https://www.midhurst-primary-school.co.uk/event/leavers-tea-in-school-2/
END:VEVENT
BEGIN:VEVENT
DTSTART;TZID=Europe/London:20240717T153000
DTEND;TZID=Europe/London:20240717T163000
DTSTAMP:20260426T052517
CREATED:20240709T133900Z
LAST-MODIFIED:20240709T133900Z
UID:5998-1721230200-1721233800@www.midhurst-primary-school.co.uk
SUMMARY:Leavers Picnic at School
DESCRIPTION:
URL:https://www.midhurst-primary-school.co.uk/event/leavers-picnic-at-school/
END:VEVENT
BEGIN:VEVENT
DTSTART;VALUE=DATE:20240722
DTEND;VALUE=DATE:20240723
DTSTAMP:20260426T052517
CREATED:20231212T150045Z
LAST-MODIFIED:20231212T150051Z
UID:5776-1721606400-1721692799@www.midhurst-primary-school.co.uk
SUMMARY:Whole school beach trip
DESCRIPTION:
URL:https://www.midhurst-primary-school.co.uk/event/whole-school-beach-trip/
END:VEVENT
BEGIN:VEVENT
DTSTART;VALUE=DATE:20240723
DTEND;VALUE=DATE:20240724
DTSTAMP:20260426T052517
CREATED:20220613T205040Z
LAST-MODIFIED:20220613T205040Z
UID:4997-1721692800-1721779199@www.midhurst-primary-school.co.uk
SUMMARY:Last day of summer term
DESCRIPTION:
URL:https://www.midhurst-primary-school.co.uk/event/last-day-of-summer-term-2/
END:VEVENT
BEGIN:VEVENT
DTSTART;VALUE=DATE:20240723
DTEND;VALUE=DATE:20240724
DTSTAMP:20260426T052517
CREATED:20231212T144622Z
LAST-MODIFIED:20231212T145225Z
UID:5757-1721692800-1721779199@www.midhurst-primary-school.co.uk
SUMMARY:Last day of term
DESCRIPTION:
URL:https://www.midhurst-primary-school.co.uk/event/reports-out/
END:VEVENT
END:VCALENDAR